BEGIN:VCALENDAR
VERSION:2.0
PRODID:-//Hans Glas Schule - ECPv6.15.18//NONSGML v1.0//EN
CALSCALE:GREGORIAN
METHOD:PUBLISH
X-ORIGINAL-URL:https://www.hgs-dingolfing.bayern
X-WR-CALDESC:Veranstaltungen für Hans Glas Schule
REFRESH-INTERVAL;VALUE=DURATION:PT1H
X-Robots-Tag:noindex
X-PUBLISHED-TTL:PT1H
BEGIN:VTIMEZONE
TZID:Europe/Berlin
BEGIN:DAYLIGHT
TZOFFSETFROM:+0100
TZOFFSETTO:+0200
TZNAME:CEST
DTSTART:20160327T010000
END:DAYLIGHT
BEGIN:STANDARD
TZOFFSETFROM:+0200
TZOFFSETTO:+0100
TZNAME:CET
DTSTART:20161030T010000
END:STANDARD
BEGIN:DAYLIGHT
TZOFFSETFROM:+0100
TZOFFSETTO:+0200
TZNAME:CEST
DTSTART:20170326T010000
END:DAYLIGHT
BEGIN:STANDARD
TZOFFSETFROM:+0200
TZOFFSETTO:+0100
TZNAME:CET
DTSTART:20171029T010000
END:STANDARD
BEGIN:DAYLIGHT
TZOFFSETFROM:+0100
TZOFFSETTO:+0200
TZNAME:CEST
DTSTART:20180325T010000
END:DAYLIGHT
BEGIN:STANDARD
TZOFFSETFROM:+0200
TZOFFSETTO:+0100
TZNAME:CET
DTSTART:20181028T010000
END:STANDARD
END:VTIMEZONE
BEGIN:VEVENT
DTSTART;TZID=Europe/Berlin:20170705T180000
DTEND;TZID=Europe/Berlin:20170705T230000
DTSTAMP:20260424T070921
CREATED:20170614T092455Z
LAST-MODIFIED:20170614T092455Z
UID:1128-1499277600-1499295600@www.hgs-dingolfing.bayern
SUMMARY:Absolvia 2017
DESCRIPTION:Einlass ab 18:00 Uhr  – Start des offiziellen Teils 19:30 Uhr
URL:https://www.hgs-dingolfing.bayern/termine/absolvia-2017/
CATEGORIES:BS+
END:VEVENT
END:VCALENDAR