BEGIN:VCALENDAR
VERSION:2.0
PRODID:-//Hans Glas Schule - ECPv6.15.18//NONSGML v1.0//EN
CALSCALE:GREGORIAN
METHOD:PUBLISH
X-ORIGINAL-URL:https://www.hgs-dingolfing.bayern
X-WR-CALDESC:Veranstaltungen für Hans Glas Schule
REFRESH-INTERVAL;VALUE=DURATION:PT1H
X-Robots-Tag:noindex
X-PUBLISHED-TTL:PT1H
BEGIN:VTIMEZONE
TZID:Europe/Berlin
BEGIN:DAYLIGHT
TZOFFSETFROM:+0100
TZOFFSETTO:+0200
TZNAME:CEST
DTSTART:20160327T010000
END:DAYLIGHT
BEGIN:STANDARD
TZOFFSETFROM:+0200
TZOFFSETTO:+0100
TZNAME:CET
DTSTART:20161030T010000
END:STANDARD
BEGIN:DAYLIGHT
TZOFFSETFROM:+0100
TZOFFSETTO:+0200
TZNAME:CEST
DTSTART:20170326T010000
END:DAYLIGHT
BEGIN:STANDARD
TZOFFSETFROM:+0200
TZOFFSETTO:+0100
TZNAME:CET
DTSTART:20171029T010000
END:STANDARD
BEGIN:DAYLIGHT
TZOFFSETFROM:+0100
TZOFFSETTO:+0200
TZNAME:CEST
DTSTART:20180325T010000
END:DAYLIGHT
BEGIN:STANDARD
TZOFFSETFROM:+0200
TZOFFSETTO:+0100
TZNAME:CET
DTSTART:20181028T010000
END:STANDARD
END:VTIMEZONE
BEGIN:VEVENT
DTSTART;TZID=Europe/Berlin:20170725T083000
DTEND;TZID=Europe/Berlin:20170725T113000
DTSTAMP:20260424T062339
CREATED:20170711T064643Z
LAST-MODIFIED:20170711T064652Z
UID:1564-1500971400-1500982200@www.hgs-dingolfing.bayern
SUMMARY:Abschlussfeier Sommer 2017
DESCRIPTION:08:30 Uhr Ökumenischer Gottesdienst \n09:30 Uhr Beginn der Abschlussfeier in der Stadthalle
URL:https://www.hgs-dingolfing.bayern/termine/abschlussfeier-sommer-2017/
LOCATION:Stadthalle Landau a. d. Isar
CATEGORIES:Allgemein
END:VEVENT
END:VCALENDAR