BEGIN:VCALENDAR
VERSION:2.0
PRODID:-//Hans Glas Schule - ECPv6.15.18//NONSGML v1.0//EN
CALSCALE:GREGORIAN
METHOD:PUBLISH
X-ORIGINAL-URL:https://www.hgs-dingolfing.bayern
X-WR-CALDESC:Veranstaltungen für Hans Glas Schule
REFRESH-INTERVAL;VALUE=DURATION:PT1H
X-Robots-Tag:noindex
X-PUBLISHED-TTL:PT1H
BEGIN:VTIMEZONE
TZID:Europe/Berlin
BEGIN:DAYLIGHT
TZOFFSETFROM:+0100
TZOFFSETTO:+0200
TZNAME:CEST
DTSTART:20160327T010000
END:DAYLIGHT
BEGIN:STANDARD
TZOFFSETFROM:+0200
TZOFFSETTO:+0100
TZNAME:CET
DTSTART:20161030T010000
END:STANDARD
BEGIN:DAYLIGHT
TZOFFSETFROM:+0100
TZOFFSETTO:+0200
TZNAME:CEST
DTSTART:20170326T010000
END:DAYLIGHT
BEGIN:STANDARD
TZOFFSETFROM:+0200
TZOFFSETTO:+0100
TZNAME:CET
DTSTART:20171029T010000
END:STANDARD
BEGIN:DAYLIGHT
TZOFFSETFROM:+0100
TZOFFSETTO:+0200
TZNAME:CEST
DTSTART:20180325T010000
END:DAYLIGHT
BEGIN:STANDARD
TZOFFSETFROM:+0200
TZOFFSETTO:+0100
TZNAME:CET
DTSTART:20181028T010000
END:STANDARD
END:VTIMEZONE
BEGIN:VEVENT
DTSTART;TZID=Europe/Berlin:20171117T140000
DTEND;TZID=Europe/Berlin:20171117T140000
DTSTAMP:20260423T234246
CREATED:20171009T163652Z
LAST-MODIFIED:20171010T074901Z
UID:1963-1510927200-1510927200@www.hgs-dingolfing.bayern
SUMMARY:Logistik-Workshop
DESCRIPTION:Am 17. November 2017 findet ab 14:00 Uhr ein Logistik-Workshop an der Nebenstelle statt. \nDer Workshop dient der Vorbereitung auf die praktische Abschlussprüfung und richtet sich ausschließlich an Abschlussschüler der Berufsschule\, die zur Winterprüfung 2017/18 angemeldet sind.
URL:https://www.hgs-dingolfing.bayern/termine/logistik-workshop/
CATEGORIES:Allgemein,Wirtschaft und Verwaltung
END:VEVENT
END:VCALENDAR