BEGIN:VCALENDAR
VERSION:2.0
PRODID:-//Hans Glas Schule - ECPv6.15.18//NONSGML v1.0//EN
CALSCALE:GREGORIAN
METHOD:PUBLISH
X-WR-CALNAME:Hans Glas Schule
X-ORIGINAL-URL:https://www.hgs-dingolfing.bayern
X-WR-CALDESC:Veranstaltungen für Hans Glas Schule
REFRESH-INTERVAL;VALUE=DURATION:PT1H
X-Robots-Tag:noindex
X-PUBLISHED-TTL:PT1H
BEGIN:VTIMEZONE
TZID:Europe/Berlin
BEGIN:DAYLIGHT
TZOFFSETFROM:+0100
TZOFFSETTO:+0200
TZNAME:CEST
DTSTART:20160327T010000
END:DAYLIGHT
BEGIN:STANDARD
TZOFFSETFROM:+0200
TZOFFSETTO:+0100
TZNAME:CET
DTSTART:20161030T010000
END:STANDARD
BEGIN:DAYLIGHT
TZOFFSETFROM:+0100
TZOFFSETTO:+0200
TZNAME:CEST
DTSTART:20170326T010000
END:DAYLIGHT
BEGIN:STANDARD
TZOFFSETFROM:+0200
TZOFFSETTO:+0100
TZNAME:CET
DTSTART:20171029T010000
END:STANDARD
BEGIN:DAYLIGHT
TZOFFSETFROM:+0100
TZOFFSETTO:+0200
TZNAME:CEST
DTSTART:20180325T010000
END:DAYLIGHT
BEGIN:STANDARD
TZOFFSETFROM:+0200
TZOFFSETTO:+0100
TZNAME:CET
DTSTART:20181028T010000
END:STANDARD
END:VTIMEZONE
BEGIN:VEVENT
DTSTART;TZID=Europe/Berlin:20171118T090000
DTEND;TZID=Europe/Berlin:20171118T140000
DTSTAMP:20260423T234057
CREATED:20171019T101913Z
LAST-MODIFIED:20171106T154802Z
UID:2006-1510995600-1511013600@www.hgs-dingolfing.bayern
SUMMARY:Berufsinfomesse
DESCRIPTION:Die Holzabteilung beteiligt sich auch dieses Jahr an der Berufsinfomesse “ Bleib hier“. Zusammen mit der Schreinerinnung\, der Fa. Niedermeier und der Fa. Vedder Munich wird dir die Holzabteilung Besuchern der Berufsinfomesse vertiefte Informationen zum Beruf des Schreiners anbieten. \n. \nSONY DSC
URL:https://www.hgs-dingolfing.bayern/termine/berufsinfomesse/
CATEGORIES:Allgemein
END:VEVENT
END:VCALENDAR