BEGIN:VCALENDAR
VERSION:2.0
PRODID:-//Hans Glas Schule - ECPv6.15.18//NONSGML v1.0//EN
CALSCALE:GREGORIAN
METHOD:PUBLISH
X-ORIGINAL-URL:https://www.hgs-dingolfing.bayern
X-WR-CALDESC:Veranstaltungen für Hans Glas Schule
REFRESH-INTERVAL;VALUE=DURATION:PT1H
X-Robots-Tag:noindex
X-PUBLISHED-TTL:PT1H
BEGIN:VTIMEZONE
TZID:Europe/Berlin
BEGIN:DAYLIGHT
TZOFFSETFROM:+0100
TZOFFSETTO:+0200
TZNAME:CEST
DTSTART:20170326T010000
END:DAYLIGHT
BEGIN:STANDARD
TZOFFSETFROM:+0200
TZOFFSETTO:+0100
TZNAME:CET
DTSTART:20171029T010000
END:STANDARD
BEGIN:DAYLIGHT
TZOFFSETFROM:+0100
TZOFFSETTO:+0200
TZNAME:CEST
DTSTART:20180325T010000
END:DAYLIGHT
BEGIN:STANDARD
TZOFFSETFROM:+0200
TZOFFSETTO:+0100
TZNAME:CET
DTSTART:20181028T010000
END:STANDARD
BEGIN:DAYLIGHT
TZOFFSETFROM:+0100
TZOFFSETTO:+0200
TZNAME:CEST
DTSTART:20190331T010000
END:DAYLIGHT
BEGIN:STANDARD
TZOFFSETFROM:+0200
TZOFFSETTO:+0100
TZNAME:CET
DTSTART:20191027T010000
END:STANDARD
END:VTIMEZONE
BEGIN:VEVENT
DTSTART;TZID=Europe/Berlin:20180227T163000
DTEND;TZID=Europe/Berlin:20180227T180000
DTSTAMP:20260423T180111
CREATED:20180116T140451Z
LAST-MODIFIED:20180116T140451Z
UID:2557-1519749000-1519754400@www.hgs-dingolfing.bayern
SUMMARY:Ausbildersprechtag Elektroabteilung
DESCRIPTION:Für die Ausbildungsverantwortlichen in den Ausbildungsberufen EBT und EFEG findet eine Informationsveranstaltung statt. Anschließend besteht die Möglichkeit mit den Lehrkräften der Elektroabteilung zu sprechen.
URL:https://www.hgs-dingolfing.bayern/termine/ausbildersprechtag-elektroabteilung/
CATEGORIES:Elektrotechnik
END:VEVENT
END:VCALENDAR