BEGIN:VCALENDAR
VERSION:2.0
PRODID:-//Hans Glas Schule - ECPv6.15.18//NONSGML v1.0//EN
CALSCALE:GREGORIAN
METHOD:PUBLISH
X-ORIGINAL-URL:https://www.hgs-dingolfing.bayern
X-WR-CALDESC:Veranstaltungen für Hans Glas Schule
REFRESH-INTERVAL;VALUE=DURATION:PT1H
X-Robots-Tag:noindex
X-PUBLISHED-TTL:PT1H
BEGIN:VTIMEZONE
TZID:Europe/Berlin
BEGIN:DAYLIGHT
TZOFFSETFROM:+0100
TZOFFSETTO:+0200
TZNAME:CEST
DTSTART:20210328T010000
END:DAYLIGHT
BEGIN:STANDARD
TZOFFSETFROM:+0200
TZOFFSETTO:+0100
TZNAME:CET
DTSTART:20211031T010000
END:STANDARD
BEGIN:DAYLIGHT
TZOFFSETFROM:+0100
TZOFFSETTO:+0200
TZNAME:CEST
DTSTART:20220327T010000
END:DAYLIGHT
BEGIN:STANDARD
TZOFFSETFROM:+0200
TZOFFSETTO:+0100
TZNAME:CET
DTSTART:20221030T010000
END:STANDARD
BEGIN:DAYLIGHT
TZOFFSETFROM:+0100
TZOFFSETTO:+0200
TZNAME:CEST
DTSTART:20230326T010000
END:DAYLIGHT
BEGIN:STANDARD
TZOFFSETFROM:+0200
TZOFFSETTO:+0100
TZNAME:CET
DTSTART:20231029T010000
END:STANDARD
END:VTIMEZONE
BEGIN:VEVENT
DTSTART;VALUE=DATE:20220629
DTEND;VALUE=DATE:20220630
DTSTAMP:20260419T222051
CREATED:20220214T091336Z
LAST-MODIFIED:20220214T091422Z
UID:5172-1656460800-1656547199@www.hgs-dingolfing.bayern
SUMMARY:Schülerworkshop zum Thema Links- und Rechtsextremismus
DESCRIPTION:Am 29.06.2022 findet einen Schülerworkshop zum Thema Links- und Rechtsextremismus statt. Die Bayerische Informationsstelle gegen Extremismus wird den Workshop durchführen.
URL:https://www.hgs-dingolfing.bayern/termine/schuelerworkshop-zum-thema-links-und-rechtsextremismus/
LOCATION:Hauptstelle Hans-Glas-Schule\, Bayerwaldring 2\, Dingolfing\, 84130\, Deutschland
CATEGORIES:Allgemein,Schule ohne Rassismus
END:VEVENT
END:VCALENDAR