BEGIN:VCALENDAR
VERSION:2.0
PRODID:-//Hans Glas Schule - ECPv6.15.18//NONSGML v1.0//EN
CALSCALE:GREGORIAN
METHOD:PUBLISH
X-WR-CALNAME:Hans Glas Schule
X-ORIGINAL-URL:https://www.hgs-dingolfing.bayern
X-WR-CALDESC:Veranstaltungen für Hans Glas Schule
REFRESH-INTERVAL;VALUE=DURATION:PT1H
X-Robots-Tag:noindex
X-PUBLISHED-TTL:PT1H
BEGIN:VTIMEZONE
TZID:Europe/Berlin
BEGIN:DAYLIGHT
TZOFFSETFROM:+0100
TZOFFSETTO:+0200
TZNAME:CEST
DTSTART:20160327T010000
END:DAYLIGHT
BEGIN:STANDARD
TZOFFSETFROM:+0200
TZOFFSETTO:+0100
TZNAME:CET
DTSTART:20161030T010000
END:STANDARD
BEGIN:DAYLIGHT
TZOFFSETFROM:+0100
TZOFFSETTO:+0200
TZNAME:CEST
DTSTART:20170326T010000
END:DAYLIGHT
BEGIN:STANDARD
TZOFFSETFROM:+0200
TZOFFSETTO:+0100
TZNAME:CET
DTSTART:20171029T010000
END:STANDARD
BEGIN:DAYLIGHT
TZOFFSETFROM:+0100
TZOFFSETTO:+0200
TZNAME:CEST
DTSTART:20180325T010000
END:DAYLIGHT
BEGIN:STANDARD
TZOFFSETFROM:+0200
TZOFFSETTO:+0100
TZNAME:CET
DTSTART:20181028T010000
END:STANDARD
END:VTIMEZONE
BEGIN:VEVENT
DTSTART;TZID=Europe/Berlin:20170601T090000
DTEND;TZID=Europe/Berlin:20170601T120000
DTSTAMP:20260424T054532
CREATED:20161123T091052Z
LAST-MODIFIED:20161123T091052Z
UID:341-1496307600-1496318400@www.hgs-dingolfing.bayern
SUMMARY:Fachabitur Mathematik
DESCRIPTION:Taschenrechner und Merkhilfe müssen prüfungskonform sein!\nNach Möglichkeit einen Backup-Taschenrechner mitnehmen.
URL:https://www.hgs-dingolfing.bayern/termine/fachabitur-mathematik/
LOCATION:Hauptstelle Hans-Glas-Schule\, Bayerwaldring 2\, Dingolfing\, 84130\, Deutschland
END:VEVENT
BEGIN:VEVENT
DTSTART;TZID=Europe/Berlin:20170602T090000
DTEND;TZID=Europe/Berlin:20170602T120000
DTSTAMP:20260424T054532
CREATED:20161123T091226Z
LAST-MODIFIED:20161123T091226Z
UID:345-1496394000-1496404800@www.hgs-dingolfing.bayern
SUMMARY:Fachabitur Physik
DESCRIPTION:
URL:https://www.hgs-dingolfing.bayern/termine/fachabitur-physik/
END:VEVENT
BEGIN:VEVENT
DTSTART;TZID=Europe/Berlin:20170609T080000
DTEND;TZID=Europe/Berlin:20170609T170000
DTSTAMP:20260424T054532
CREATED:20170609T092218Z
LAST-MODIFIED:20170609T092218Z
UID:1100-1496995200-1497027600@www.hgs-dingolfing.bayern
SUMMARY:Gesellenprüfung Schreiner
DESCRIPTION:Die Abschlussprüfung der Schreiner findet am 03.07.2017 statt. \nDie CNC/CAD-Abschlussprüfunf wird am 28.6.2017 abgehalten.
URL:https://www.hgs-dingolfing.bayern/termine/gesellenpruefung-schreiner/
CATEGORIES:Allgemein,Holztechnik
END:VEVENT
BEGIN:VEVENT
DTSTART;TZID=Europe/Berlin:20170619T090000
DTEND;TZID=Europe/Berlin:20170619T130000
DTSTAMP:20260424T054532
CREATED:20161123T091708Z
LAST-MODIFIED:20161123T091708Z
UID:351-1497862800-1497877200@www.hgs-dingolfing.bayern
SUMMARY:Ergänzungsprüfung Deutsch
DESCRIPTION:
URL:https://www.hgs-dingolfing.bayern/termine/ergaenzungspruefung-deutsch/
LOCATION:Hauptstelle Hans-Glas-Schule\, Bayerwaldring 2\, Dingolfing\, 84130\, Deutschland
CATEGORIES:BS+
END:VEVENT
BEGIN:VEVENT
DTSTART;TZID=Europe/Berlin:20170620T090000
DTEND;TZID=Europe/Berlin:20170620T120000
DTSTAMP:20260424T054532
CREATED:20161123T091753Z
LAST-MODIFIED:20161123T091803Z
UID:353-1497949200-1497960000@www.hgs-dingolfing.bayern
SUMMARY:Ergänzungsprüfung Englisch
DESCRIPTION:
URL:https://www.hgs-dingolfing.bayern/termine/ergaenzungspruefung-englisch/
LOCATION:Hauptstelle Hans-Glas-Schule\, Bayerwaldring 2\, Dingolfing\, 84130\, Deutschland
CATEGORIES:BS+
END:VEVENT
BEGIN:VEVENT
DTSTART;TZID=Europe/Berlin:20170622T090000
DTEND;TZID=Europe/Berlin:20170622T130000
DTSTAMP:20260424T054532
CREATED:20161123T091859Z
LAST-MODIFIED:20170329T132229Z
UID:355-1498122000-1498136400@www.hgs-dingolfing.bayern
SUMMARY:Ergänzungsprüfung Mathematik
DESCRIPTION:
URL:https://www.hgs-dingolfing.bayern/termine/ergaenzungspruefung-mathematik/
CATEGORIES:Allgemein,BS+
END:VEVENT
BEGIN:VEVENT
DTSTART;TZID=Europe/Berlin:20170628T090000
DTEND;TZID=Europe/Berlin:20170628T110000
DTSTAMP:20260424T054532
CREATED:20170614T091944Z
LAST-MODIFIED:20170614T091955Z
UID:1122-1498640400-1498647600@www.hgs-dingolfing.bayern
SUMMARY:Bekanntgabe der Fachabiturergebnisse
DESCRIPTION:Persönliche Anwesenheit oder ein Vertreter mit schriftlicher Vollmacht sind notwendig.
URL:https://www.hgs-dingolfing.bayern/termine/bekanntgabe-der-fachabiturergebnisse/
LOCATION:Hauptstelle Hans-Glas-Schule\, Bayerwaldring 2\, Dingolfing\, 84130\, Deutschland
CATEGORIES:Allgemein
END:VEVENT
BEGIN:VEVENT
DTSTART;TZID=Europe/Berlin:20170628T120000
DTEND;TZID=Europe/Berlin:20170628T140000
DTSTAMP:20260424T054532
CREATED:20170614T092214Z
LAST-MODIFIED:20170614T092214Z
UID:1124-1498651200-1498658400@www.hgs-dingolfing.bayern
SUMMARY:Bekanntgabe Terminplan mündliche Prüfungen
DESCRIPTION:Der Terminplan kann auch via Telefon erfragt werden.
URL:https://www.hgs-dingolfing.bayern/termine/bekanntgabe-terminplan-muendliche-pruefungen/
CATEGORIES:Allgemein
END:VEVENT
BEGIN:VEVENT
DTSTART;VALUE=DATE:20170630
DTEND;VALUE=DATE:20170701
DTSTAMP:20260424T054532
CREATED:20170614T092241Z
LAST-MODIFIED:20170614T092241Z
UID:1126-1498780800-1498867199@www.hgs-dingolfing.bayern
SUMMARY:Mündliche Prüfungen
DESCRIPTION:
URL:https://www.hgs-dingolfing.bayern/termine/muendliche-pruefungen/
END:VEVENT
END:VCALENDAR