BEGIN:VCALENDAR
VERSION:2.0
PRODID:-//Hans Glas Schule - ECPv6.15.18//NONSGML v1.0//EN
CALSCALE:GREGORIAN
METHOD:PUBLISH
X-WR-CALNAME:Hans Glas Schule
X-ORIGINAL-URL:https://www.hgs-dingolfing.bayern
X-WR-CALDESC:Veranstaltungen für Hans Glas Schule
REFRESH-INTERVAL;VALUE=DURATION:PT1H
X-Robots-Tag:noindex
X-PUBLISHED-TTL:PT1H
BEGIN:VTIMEZONE
TZID:Europe/Berlin
BEGIN:DAYLIGHT
TZOFFSETFROM:+0100
TZOFFSETTO:+0200
TZNAME:CEST
DTSTART:20170326T010000
END:DAYLIGHT
BEGIN:STANDARD
TZOFFSETFROM:+0200
TZOFFSETTO:+0100
TZNAME:CET
DTSTART:20171029T010000
END:STANDARD
BEGIN:DAYLIGHT
TZOFFSETFROM:+0100
TZOFFSETTO:+0200
TZNAME:CEST
DTSTART:20180325T010000
END:DAYLIGHT
BEGIN:STANDARD
TZOFFSETFROM:+0200
TZOFFSETTO:+0100
TZNAME:CET
DTSTART:20181028T010000
END:STANDARD
BEGIN:DAYLIGHT
TZOFFSETFROM:+0100
TZOFFSETTO:+0200
TZNAME:CEST
DTSTART:20190331T010000
END:DAYLIGHT
BEGIN:STANDARD
TZOFFSETFROM:+0200
TZOFFSETTO:+0100
TZNAME:CET
DTSTART:20191027T010000
END:STANDARD
END:VTIMEZONE
BEGIN:VEVENT
DTSTART;TZID=Europe/Berlin:20181123T140000
DTEND;TZID=Europe/Berlin:20181123T140000
DTSTAMP:20260423T045247
CREATED:20181009T144557Z
LAST-MODIFIED:20181011T122641Z
UID:3106-1542981600-1542981600@www.hgs-dingolfing.bayern
SUMMARY:Logistik-Workshop
DESCRIPTION:Der Workshop dient der Vorbereitung auf die praktische Abschlussprüfung und richtet sich ausschließlich an Abschlussschüler der Berufsschule\, die zur Winterprüfung 2018/19 angemeldet sind.
URL:https://www.hgs-dingolfing.bayern/termine/logistik-workshop-2/
LOCATION:Nebenstelle Hans-Glas-Schule\, Pestalozzistr. 6\, Dingolfing\, 84130\, Deutschland
CATEGORIES:Allgemein,Wirtschaft und Verwaltung
END:VEVENT
END:VCALENDAR