BEGIN:VCALENDAR
VERSION:2.0
PRODID:-//Hans Glas Schule - ECPv6.15.18//NONSGML v1.0//EN
CALSCALE:GREGORIAN
METHOD:PUBLISH
X-ORIGINAL-URL:https://www.hgs-dingolfing.bayern
X-WR-CALDESC:Veranstaltungen für Hans Glas Schule
REFRESH-INTERVAL;VALUE=DURATION:PT1H
X-Robots-Tag:noindex
X-PUBLISHED-TTL:PT1H
BEGIN:VTIMEZONE
TZID:Europe/Berlin
BEGIN:DAYLIGHT
TZOFFSETFROM:+0100
TZOFFSETTO:+0200
TZNAME:CEST
DTSTART:20180325T010000
END:DAYLIGHT
BEGIN:STANDARD
TZOFFSETFROM:+0200
TZOFFSETTO:+0100
TZNAME:CET
DTSTART:20181028T010000
END:STANDARD
BEGIN:DAYLIGHT
TZOFFSETFROM:+0100
TZOFFSETTO:+0200
TZNAME:CEST
DTSTART:20190331T010000
END:DAYLIGHT
BEGIN:STANDARD
TZOFFSETFROM:+0200
TZOFFSETTO:+0100
TZNAME:CET
DTSTART:20191027T010000
END:STANDARD
BEGIN:DAYLIGHT
TZOFFSETFROM:+0100
TZOFFSETTO:+0200
TZNAME:CEST
DTSTART:20200329T010000
END:DAYLIGHT
BEGIN:STANDARD
TZOFFSETFROM:+0200
TZOFFSETTO:+0100
TZNAME:CET
DTSTART:20201025T010000
END:STANDARD
END:VTIMEZONE
BEGIN:VEVENT
DTSTART;TZID=Europe/Berlin:20190527T090000
DTEND;TZID=Europe/Berlin:20190527T090000
DTSTAMP:20260422T222021
CREATED:20170707T091606Z
LAST-MODIFIED:20180622T090120Z
UID:1551-1558947600-1558947600@www.hgs-dingolfing.bayern
SUMMARY:Fachabiturprüfung Deutsch
DESCRIPTION:
URL:https://www.hgs-dingolfing.bayern/termine/fachabiturpruefung-deutsch/
LOCATION:Hauptstelle Hans-Glas-Schule\, Bayerwaldring 2\, Dingolfing\, 84130\, Deutschland
END:VEVENT
BEGIN:VEVENT
DTSTART;TZID=Europe/Berlin:20190528T090000
DTEND;TZID=Europe/Berlin:20190528T123000
DTSTAMP:20260422T222021
CREATED:20170707T091838Z
LAST-MODIFIED:20190510T081540Z
UID:1557-1559034000-1559046600@www.hgs-dingolfing.bayern
SUMMARY:Fachabiturprüfung Mathematik
DESCRIPTION:Achtung neuer Modus! \n09:00-10:00 Teil ohne Hilfsmittel \n10:00-10:30 Pause \n10:30-12:30 2. Teil
URL:https://www.hgs-dingolfing.bayern/termine/fachabiturpruefung-mathematik/
END:VEVENT
BEGIN:VEVENT
DTSTART;TZID=Europe/Berlin:20190529T090000
DTEND;TZID=Europe/Berlin:20190529T090000
DTSTAMP:20260422T222021
CREATED:20170707T091658Z
LAST-MODIFIED:20180622T090047Z
UID:1553-1559120400-1559120400@www.hgs-dingolfing.bayern
SUMMARY:Fachabiturprüfung Physik
DESCRIPTION:
URL:https://www.hgs-dingolfing.bayern/termine/fachabiturpruefung-physik/
LOCATION:Hauptstelle Hans-Glas-Schule\, Bayerwaldring 2\, Dingolfing\, 84130\, Deutschland
END:VEVENT
BEGIN:VEVENT
DTSTART;TZID=Europe/Berlin:20190531T090000
DTEND;TZID=Europe/Berlin:20190531T120000
DTSTAMP:20260422T222021
CREATED:20170707T091755Z
LAST-MODIFIED:20190510T081403Z
UID:1555-1559293200-1559304000@www.hgs-dingolfing.bayern
SUMMARY:Fachabiturprüfung Englisch
DESCRIPTION:
URL:https://www.hgs-dingolfing.bayern/termine/fachabiturpruefung-englisch/
LOCATION:Hauptstelle Hans-Glas-Schule\, Bayerwaldring 2\, Dingolfing\, 84130\, Deutschland
END:VEVENT
END:VCALENDAR