BEGIN:VCALENDAR
VERSION:2.0
PRODID:-//Hans Glas Schule - ECPv6.15.18//NONSGML v1.0//EN
CALSCALE:GREGORIAN
METHOD:PUBLISH
X-ORIGINAL-URL:https://www.hgs-dingolfing.bayern
X-WR-CALDESC:Veranstaltungen für Hans Glas Schule
REFRESH-INTERVAL;VALUE=DURATION:PT1H
X-Robots-Tag:noindex
X-PUBLISHED-TTL:PT1H
BEGIN:VTIMEZONE
TZID:Europe/Berlin
BEGIN:DAYLIGHT
TZOFFSETFROM:+0100
TZOFFSETTO:+0200
TZNAME:CEST
DTSTART:20210328T010000
END:DAYLIGHT
BEGIN:STANDARD
TZOFFSETFROM:+0200
TZOFFSETTO:+0100
TZNAME:CET
DTSTART:20211031T010000
END:STANDARD
BEGIN:DAYLIGHT
TZOFFSETFROM:+0100
TZOFFSETTO:+0200
TZNAME:CEST
DTSTART:20220327T010000
END:DAYLIGHT
BEGIN:STANDARD
TZOFFSETFROM:+0200
TZOFFSETTO:+0100
TZNAME:CET
DTSTART:20221030T010000
END:STANDARD
BEGIN:DAYLIGHT
TZOFFSETFROM:+0100
TZOFFSETTO:+0200
TZNAME:CEST
DTSTART:20230326T010000
END:DAYLIGHT
BEGIN:STANDARD
TZOFFSETFROM:+0200
TZOFFSETTO:+0100
TZNAME:CET
DTSTART:20231029T010000
END:STANDARD
END:VTIMEZONE
BEGIN:VEVENT
DTSTART;TZID=Europe/Berlin:20220915T180000
DTEND;TZID=Europe/Berlin:20220915T190000
DTSTAMP:20260420T025115
CREATED:20220905T132228Z
LAST-MODIFIED:20220905T132305Z
UID:5391-1663264800-1663268400@www.hgs-dingolfing.bayern
SUMMARY:Infoabend Berufsschule plus
DESCRIPTION:
URL:https://www.hgs-dingolfing.bayern/termine/informationsabend-berufsschule-plus/
LOCATION:Hauptstelle Hans-Glas-Schule\, Bayerwaldring 2\, Dingolfing\, 84130\, Deutschland
CATEGORIES:Allgemein,BS+
END:VEVENT
END:VCALENDAR